Workbook

Sheet M1
A1: 2.1. ФПЧ10
A3: Пункт | B3: Община | C3: Дата | D3: Измерена концентрация | E3: Превишение на ПС за СДН
D4: [µg/m3] | E4: [в пъти ПС за СДН]
E5: (50 µg/m3)
A6: 1 | B6: 2 | C6: 3 | D6: 4 | E6: 5
A7: АИС | B7: Шумен | C7: 46023 | D7: 15.31 | E7: =IF(D7>50,D7/50,IF(D7<=50,"-")) -> -
A8: АИС | B8: Шумен | C8: 46024 | D8: 22.65 | E8: =IF(D8>50,D8/50,IF(D8<=50,"-")) -> -
A9: АИС | B9: Шумен | C9: 46025 | D9: 12.82 | E9: =IF(D9>50,D9/50,IF(D9<=50,"-")) -> -
A10: АИС | B10: Шумен | C10: 46026 | D10: 13.02 | E10: =IF(D10>50,D10/50,IF(D10<=50,"-")) -> -
A11: АИС | B11: Шумен | C11: 46027 | D11: 19.08 | E11: =IF(D11>50,D11/50,IF(D11<=50,"-")) -> -
A12: АИС | B12: Шумен | C12: 46028 | D12: 18.34 | E12: =IF(D12>50,D12/50,IF(D12<=50,"-")) -> -
A13: АИС | B13: Шумен | C13: 46029 | D13: 24.53 | E13: =IF(D13>50,D13/50,IF(D13<=50,"-")) -> -
A14: АИС | B14: Шумен | C14: 46030 | D14: 20.66 | E14: =IF(D14>50,D14/50,IF(D14<=50,"-")) -> -
A15: АИС | B15: Шумен | C15: 46031 | D15: 17.61 | E15: =IF(D15>50,D15/50,IF(D15<=50,"-")) -> -
A16: АИС | B16: Шумен | C16: 46032 | D16: 31.44 | E16: =IF(D16>50,D16/50,IF(D16<=50,"-")) -> -
A17: АИС | B17: Шумен | C17: 46033 | D17: 18.7 | E17: =IF(D17>50,D17/50,IF(D17<=50,"-")) -> -
A18: АИС | B18: Шумен | C18: 46034 | D18: 13.83 | E18: =IF(D18>50,D18/50,IF(D18<=50,"-")) -> -
... A37: АИС | B37: Шумен | C37: 46053 | D37: 12.9 | E37: =IF(D37>50,D37/50,IF(D37<=50,"-")) -> -
A38: Брой регистрирани данни през месеца: | E38: =COUNT(D7:D37) -> 31
A39: Брой регистрирани данни от началото на годината до момента: | E39: =COUNT(D7:D37) -> 31
A40: Брой регистрирани превишения през месеца: | E40: =COUNT(E7:E37) -> 0
A41: Брой регистрирани превишения от началото на годината до момента: | E41: =COUNT(E7:E37) -> 0
A42: Средномесечна концентрация: | E42: =AVERAGE(D7:D37) -> 24.516774
A43: Времеви обхват: | E43: =(E39/31)*100 -> 100

Sheet M2
A1: 2.1. ФПЧ10
A3: Пункт | B3: Община | C3: Дата | D3: Измерена концентрация | E3: Превишение на ПС за СДН
D4: [µg/m3] | E4: [в пъти ПС за СДН]
E5: (50 µg/m3)
A6: 1 | B6: 2 | C6: 3 | D6: 4 | E6: 5
A7: АИС | B7: Шумен | C7: 46054 | D7: 16.53 | E7: =IF(D7>50,D7/50,IF(D7<=50,"-")) -> -
A8: АИС | B8: Шумен | C8: 46055 | D8: 15.41 | E8: =IF(D8>50,D8/50,IF(D8<=50,"-")) -> -
A9: АИС | B9: Шумен | C9: 46056 | D9: 26.67 | E9: =IF(D9>50,D9/50,IF(D9<=50,"-")) -> -
A10: АИС | B10: Шумен | C10: 46057 | D10: 36.29 | E10: =IF(D10>50,D10/50,IF(D10<=50,"-")) -> -
A11: АИС | B11: Шумен | C11: 46058 | D11: 23.28 | E11: =IF(D11>50,D11/50,IF(D11<=50,"-")) -> -
A12: АИС | B12: Шумен | C12: 46059 | D12: 26.12 | E12: =IF(D12>50,D12/50,IF(D12<=50,"-")) -> -
A13: АИС | B13: Шумен | C13: 46060 | D13: 20.24 | E13: =IF(D13>50,D13/50,IF(D13<=50,"-")) -> -
A14: АИС | B14: Шумен | C14: 46061 | D14: 24.76 | E14: =IF(D14>50,D14/50,IF(D14<=50,"-")) -> -
A15: АИС | B15: Шумен | C15: 46062 | D15: 22.05 | E15: =IF(D15>50,D15/50,IF(D15<=50,"-")) -> -
A16: АИС | B16: Шумен | C16: 46063 | D16: 14.85 | E16: =IF(D16>50,D16/50,IF(D16<=50,"-")) -> -
A17: АИС | B17: Шумен | C17: 46064 | D17: 24.43 | E17: =IF(D17>50,D17/50,IF(D17<=50,"-")) -> -
A18: АИС | B18: Шумен | C18: 46065 | D18: 27.72 | E18: =IF(D18>50,D18/50,IF(D18<=50,"-")) -> -
... A34: АИС | B34: Шумен | C34: 46081 | D34: 19.21 | E34: =IF(D34>50,D34/50,IF(D34<=50,"-")) -> -
A35: Брой регистрирани данни през месеца: | E35: =COUNT(D7:D34) -> 28
A36: Брой регистрирани данни от началото на годината до момента: | E36: ='M1'!E39+'M2'!E35 -> 59
A37: Брой регистрирани превишения през месеца: | E37: =COUNT(E7:E34) -> 0
A38: Брой регистрирани превишения от началото на годината до момента: | E38: ='M1'!E41+'M2'!E37 -> 0
A39: Средномесечна концентрация: | E39: =AVERAGE(D7:D34) -> 18.511786
A40: Времеви обхват: | E40: =(E36/59)*100 -> 100

Sheet M3
A1: 2.1. ФПЧ10
A3: Пункт | B3: Община | C3: Дата | D3: Измерена концентрация | E3: Превишение на ПС за СДН
D4: [µg/m3] | E4: [в пъти ПС за СДН]
E5: (50 µg/m3)
A6: 1 | B6: 2 | C6: 3 | D6: 4 | E6: 5
A7: АИС | B7: Шумен | C7: 46082 | D7: 22.41 | E7: =IF(D7>50,D7/50,IF(D7<=50,"-")) -> -
A8: АИС | B8: Шумен | C8: 46083 | D8: 35.81 | E8: =IF(D8>50,D8/50,IF(D8<=50,"-")) -> -
A9: АИС | B9: Шумен | C9: 46084 | D9: 38.15 | E9: =IF(D9>50,D9/50,IF(D9<=50,"-")) -> -
A10: АИС | B10: Шумен | C10: 46085 | D10: 38.98 | E10: =IF(D10>50,D10/50,IF(D10<=50,"-")) -> -
A11: АИС | B11: Шумен | C11: 46086 | D11: 48.68 | E11: =IF(D11>50,D11/50,IF(D11<=50,"-")) -> -
A12: АИС | B12: Шумен | C12: 46087 | D12: 40.36 | E12: =IF(D12>50,D12/50,IF(D12<=50,"-")) -> -
A13: АИС | B13: Шумен | C13: 46088 | D13: 23.6 | E13: =IF(D13>50,D13/50,IF(D13<=50,"-")) -> -
A14: АИС | B14: Шумен | C14: 46089 | D14: 15.26 | E14: =IF(D14>50,D14/50,IF(D14<=50,"-")) -> -
A15: АИС | B15: Шумен | C15: 46090 | D15: 16.81 | E15: =IF(D15>50,D15/50,IF(D15<=50,"-")) -> -
A16: АИС | B16: Шумен | C16: 46091 | D16: 15.18 | E16: =IF(D16>50,D16/50,IF(D16<=50,"-")) -> -
A17: АИС | B17: Шумен | C17: 46092 | D17: 22.26 | E17: =IF(D17>50,D17/50,IF(D17<=50,"-")) -> -
A18: АИС | B18: Шумен | C18: 46093 | D18: 17.95 | E18: =IF(D18>50,D18/50,IF(D18<=50,"-")) -> -
... A37: АИС | B37: Шумен | C37: 46112 | D37: 11.02 | E37: =IF(D37>50,D37/50,IF(D37<=50,"-")) -> -
A38: Брой регистрирани данни през месеца: | E38: =COUNT(D7:D37) -> 31
A39: Брой регистрирани данни от началото на годината до момента: | E39: ='M2'!E36+'M3'!E38 -> 90
A40: Брой регистрирани превишения през месеца: | E40: =COUNT(E7:E37) -> 0
A41: Брой регистрирани превишения от началото на годината до момента: | E41: ='M2'!E38+'M3'!E40 -> 0
A42: Средномесечна концентрация: | E42: =AVERAGE(D7:D37) -> 26.668065
A43: Времеви обхват: | E43: =(E39/90)*100 -> 100

Sheet M4
A1: 2.1. ФПЧ10
A3: Пункт | B3: Община | C3: Дата | D3: Измерена концентрация | E3: Превишение на ПС за СДН
D4: [µg/m3] | E4: [в пъти ПС за СДН]
E5: (50 µg/m3)
A6: 1 | B6: 2 | C6: 3 | D6: 4 | E6: 5
A7: АИС | B7: Шумен | C7: 46113 | D7: 20.03 | E7: =IF(D7>50,D7/50,IF(D7<=50,"-")) -> -
A8: АИС | B8: Шумен | C8: 46114 | D8: 12.72 | E8: =IF(D8>50,D8/50,IF(D8<=50,"-")) -> -
A9: АИС | B9: Шумен | C9: 46115 | D9: 14.47 | E9: =IF(D9>50,D9/50,IF(D9<=50,"-")) -> -
A10: АИС | B10: Шумен | C10: 46116 | D10: 19.2 | E10: =IF(D10>50,D10/50,IF(D10<=50,"-")) -> -
A11: АИС | B11: Шумен | C11: 46117 | D11: 15.26 | E11: =IF(D11>50,D11/50,IF(D11<=50,"-")) -> -
A12: АИС | B12: Шумен | C12: 46118 | D12: 23.16 | E12: =IF(D12>50,D12/50,IF(D12<=50,"-")) -> -
A13: АИС | B13: Шумен | C13: 46119 | D13: 12.95 | E13: =IF(D13>50,D13/50,IF(D13<=50,"-")) -> -
A14: АИС | B14: Шумен | C14: 46120 | D14: 12.97 | E14: =IF(D14>50,D14/50,IF(D14<=50,"-")) -> -
A15: АИС | B15: Шумен | C15: 46121 | D15: 13.61 | E15: =IF(D15>50,D15/50,IF(D15<=50,"-")) -> -
A16: АИС | B16: Шумен | C16: 46122 | D16: 9.62 | E16: =IF(D16>50,D16/50,IF(D16<=50,"-")) -> -
A17: АИС | B17: Шумен | C17: 46123 | D17: 15.44 | E17: =IF(D17>50,D17/50,IF(D17<=50,"-")) -> -
A18: АИС | B18: Шумен | C18: 46124 | D18: 11.56 | E18: =IF(D18>50,D18/50,IF(D18<=50,"-")) -> -
... A36: АИС | B36: Шумен | C36: 46142 | D36: 12.29 | E36: =IF(D36>50,D36/50,IF(D36<=50,"-")) -> -
A37: Брой регистрирани данни през месеца: | E37: =COUNT(D7:D36) -> 30
A38: Брой регистрирани данни от началото на годината до момента: | E38: ='M3'!E39+'M4'!E37 -> 120
A39: Брой регистрирани превишения през месеца: | E39: =COUNT(E7:E36) -> 0
A40: Брой регистрирани превишения от началото на годината до момента: | E40: ='M3'!E41+'M4'!E39 -> 0
A41: Средномесечна концентрация: | E41: =AVERAGE(D7:D36) -> 14.981333
A42: Времеви обхват: | E42: =(E38/120)*100 -> 100

Sheet M5
A1: 2.1. ФПЧ10
A3: Пункт | B3: Община | C3: Дата | D3: Измерена концентрация | E3: Превишение на ПС за СДН
D4: [µg/m3] | E4: [в пъти ПС за СДН]
E5: (50 µg/m3)
A6: 1 | B6: 2 | C6: 3 | D6: 4 | E6: 5
A7: АИС | B7: Шумен | C7: 46143 | D7: 10.38 | E7: =IF(D7>50,D7/50,IF(D7<=50,"-")) -> -
A8: АИС | B8: Шумен | C8: 46144 | D8: 13.96 | E8: =IF(D8>50,D8/50,IF(D8<=50,"-")) -> -
A9: АИС | B9: Шумен | C9: 46145 | D9: 11.02 | E9: =IF(D9>50,D9/50,IF(D9<=50,"-")) -> -
A10: АИС | B10: Шумен | C10: 46146 | D10: 13.82 | E10: =IF(D10>50,D10/50,IF(D10<=50,"-")) -> -
A11: АИС | B11: Шумен | C11: 46147 | D11: 20.16 | E11: =IF(D11>50,D11/50,IF(D11<=50,"-")) -> -
A12: АИС | B12: Шумен | C12: 46148 | D12: 18.55 | E12: =IF(D12>50,D12/50,IF(D12<=50,"-")) -> -
A13: АИС | B13: Шумен | C13: 46149 | D13: 15.48 | E13: =IF(D13>50,D13/50,IF(D13<=50,"-")) -> -
A14: АИС | B14: Шумен | C14: 46150 | D14: 20.06 | E14: =IF(D14>50,D14/50,IF(D14<=50,"-")) -> -
A15: АИС | B15: Шумен | C15: 46151 | D15: 38.67 | E15: =IF(D15>50,D15/50,IF(D15<=50,"-")) -> -
A16: АИС | B16: Шумен | C16: 46152 | D16: 34.01 | E16: =IF(D16>50,D16/50,IF(D16<=50,"-")) -> -
A17: АИС | B17: Шумен | C17: 46153 | D17: 20.79 | E17: =IF(D17>50,D17/50,IF(D17<=50,"-")) -> -
A18: АИС | B18: Шумен | C18: 46154 | D18: 20.38 | E18: =IF(D18>50,D18/50,IF(D18<=50,"-")) -> -
... A36: АИС | B36: Шумен | C36: 46172 | D36: 14.88 | E36: =IF(D36>50,D36/50,IF(D36<=50,"-")) -> -
A37: АИС | B37: Шумен | C37: 46173 | E37: =IF(D37>50,D37/50,IF(D37<=50,"-")) -> -
A38: Брой регистрирани данни през месеца: | E38: =COUNT(D7:D37) -> 30
A39: Брой регистрирани данни от началото на годината до момента: | E39: ='M4'!E38+'M5'!E38 -> 150
A40: Брой регистрирани превишения през месеца: | E40: =COUNT(E7:E37) -> 0
A41: Брой регистрирани превишения от началото на годината до момента: | E41: ='M4'!E40+'M5'!E40 -> 0
A42: Средномесечна концентрация: | E42: =AVERAGE(D7:D37) -> 17.118333
A43: Времеви обхват: | E43: =(E39/151)*100 -> 99.337748
A44: Забележка: Няма данни за средно денонощна норма на фини прахови частици на 31.05.2026 г. поради прекъсване на ел. захранването от 12.00 ч. на 31.05.2026 г. до 07,00 ч. на 01.06.2026 г.

Sheet M6
A1: 2.1. ФПЧ10
A3: Пункт | B3: Община | C3: Дата | D3: Измерена концентрация | E3: Превишение на ПС за СДН
D4: [µg/m3] | E4: [в пъти ПС за СДН]
E5: (50 µg/m3)
A6: 1 | B6: 2 | C6: 3 | D6: 4 | E6: 5
A7: АИС | B7: Шумен | C7: 46174 | E7: =IF(D7>50,D7/50,IF(D7<=50,"-")) -> -
A8: АИС | B8: Шумен | C8: 46175 | D8: 14.74 | E8: =IF(D8>50,D8/50,IF(D8<=50,"-")) -> -
A9: АИС | B9: Шумен | C9: 46176 | D9: 18.31 | E9: =IF(D9>50,D9/50,IF(D9<=50,"-")) -> -
A10: АИС | B10: Шумен | C10: 46177 | D10: 22.75 | E10: =IF(D10>50,D10/50,IF(D10<=50,"-")) -> -
A11: АИС | B11: Шумен | C11: 46178 | D11: 18.24 | E11: =IF(D11>50,D11/50,IF(D11<=50,"-")) -> -
A12: АИС | B12: Шумен | C12: 46179 | D12: 18.79 | E12: =IF(D12>50,D12/50,IF(D12<=50,"-")) -> -
A13: АИС | B13: Шумен | C13: 46180 | D13: 21.21 | E13: =IF(D13>50,D13/50,IF(D13<=50,"-")) -> -
A14: АИС | B14: Шумен | C14: 46181 | D14: 16.04 | E14: =IF(D14>50,D14/50,IF(D14<=50,"-")) -> -
A15: АИС | B15: Шумен | C15: 46182 | D15: 16.27 | E15: =IF(D15>50,D15/50,IF(D15<=50,"-")) -> -
A16: АИС | B16: Шумен | C16: 46183 | D16: 14.58 | E16: =IF(D16>50,D16/50,IF(D16<=50,"-")) -> -
A17: АИС | B17: Шумен | C17: 46184 | D17: 15.01 | E17: =IF(D17>50,D17/50,IF(D17<=50,"-")) -> -
A18: АИС | B18: Шумен | C18: 46185 | D18: 13.64 | E18: =IF(D18>50,D18/50,IF(D18<=50,"-")) -> -
A19: АИС | B19: Шумен | C19: 46186 | D19: 9.47 | E19: =IF(D19>50,D19/50,IF(D19<=50,"-")) -> -
... A36: АИС | B36: Шумен | C36: 46203 | D36: 30.01 | E36: =IF(D36>50,D36/50,IF(D36<=50,"-")) -> -
A37: Брой регистрирани данни през месеца: | E37: =COUNT(D7:D36) -> 29
A38: Брой регистрирани данни от началото на годината до момента: | E38: ='M5'!E39+'M6'!E37 -> 179
A39: Брой регистрирани превишения през месеца: | E39: =COUNT(E7:E36) -> 0
A40: Брой регистрирани превишения от началото на годината до момента: | E40: ='M5'!E41+'M6'!E39 -> 0
A41: Средномесечна концентрация: | E41: =AVERAGE(D7:D36) -> 18.915517
A42: Времеви обхват: | E42: =(E38/181)*100 -> 98.895028
A44: Забележка: Няма данни по показател фини прахови частици на 01.06.2026 г. поради прекъсване на ел. захранването в периода от 12.00 ч. на 31.05.2026 г. до 07,00 ч. на 01.06.2026 г.

Sheet M7
A1: 2.1. ФПЧ10
A3: Пункт | B3: Община | C3: Дата | D3: Измерена концентрация | E3: Превишение на ПС за СДН
D4: [µg/m3] | E4: [в пъти ПС за СДН]
E5: (50 µg/m3)
A6: 1 | B6: 2 | C6: 3 | D6: 4 | E6: 5
A7: АИС | B7: Шумен | C7: 46204 | D7: 26.4 | E7: =IF(D7>50,D7/50,IF(D7<=50,"-")) -> -
A8: АИС | B8: Шумен | C8: 46205 | D8: 23.96 | E8: =IF(D8>50,D8/50,IF(D8<=50,"-")) -> -
A9: АИС | B9: Шумен | C9: 46206 | D9: 27.48 | E9: =IF(D9>50,D9/50,IF(D9<=50,"-")) -> -
A10: АИС | B10: Шумен | C10: 46207 | D10: 19.45 | E10: =IF(D10>50,D10/50,IF(D10<=50,"-")) -> -
A11: АИС | B11: Шумен | C11: 46208 | D11: 15.84 | E11: =IF(D11>50,D11/50,IF(D11<=50,"-")) -> -
A12: АИС | B12: Шумен | C12: 46209 | D12: 17.4 | E12: =IF(D12>50,D12/50,IF(D12<=50,"-")) -> -
A13: АИС | B13: Шумен | C13: 46210 | D13: 20.56 | E13: =IF(D13>50,D13/50,IF(D13<=50,"-")) -> -
A14: АИС | B14: Шумен | C14: 46211 | D14: 18.57 | E14: =IF(D14>50,D14/50,IF(D14<=50,"-")) -> -
A15: АИС | B15: Шумен | C15: 46212 | D15: 15.84 | E15: =IF(D15>50,D15/50,IF(D15<=50,"-")) -> -
A16: АИС | B16: Шумен | C16: 46213 | D16: 14.78 | E16: =IF(D16>50,D16/50,IF(D16<=50,"-")) -> -
A17: АИС | B17: Шумен | C17: 46214 | D17: 18.72 | E17: =IF(D17>50,D17/50,IF(D17<=50,"-")) -> -
A18: АИС | B18: Шумен | C18: 46215 | D18: 20.06 | E18: =IF(D18>50,D18/50,IF(D18<=50,"-")) -> -
... A37: АИС | B37: Шумен | C37: 46234 | D37: 19.31 | E37: =IF(D37>50,D37/50,IF(D37<=50,"-")) -> -
A38: Брой регистрирани данни през месеца: | E38: =COUNT(D7:D37) -> 31
A39: Брой регистрирани данни от началото на годината до момента: | E39: ='M6'!E38+'M7'!E38 -> 210
A40: Брой регистрирани превишения през месеца: | E40: =COUNT(E7:E37) -> 0
A41: Брой регистрирани превишения от началото на годината до момента: | E41: ='M6'!E40+'M7'!E40 -> 0
A42: Средномесечна концентрация: | E42: =AVERAGE(D7:D37) -> 19.430323
A43: Времеви обхват: | E43: =(E39/212)*100 -> 99.056604

Sheet M8
A1: 2.1. ФПЧ10
A3: Пункт | B3: Община | C3: Дата | D3: Измерена концентрация | E3: Превишение на ПС за СДН
D4: [µg/m3] | E4: [в пъти ПС за СДН]
E5: (50 µg/m3)
A6: 1 | B6: 2 | C6: 3 | D6: 4 | E6: 5
A7: АИС | B7: Шумен | C7: 46235 | D7: 18.26 | E7: =IF(D7>50,D7/50,IF(D7<=50,"-")) -> -
A8: АИС | B8: Шумен | C8: 46236 | D8: 19.61 | E8: =IF(D8>50,D8/50,IF(D8<=50,"-")) -> -
A9: АИС | B9: Шумен | C9: 46237 | D9: 24.13 | E9: =IF(D9>50,D9/50,IF(D9<=50,"-")) -> -
A10: АИС | B10: Шумен | C10: 46238 | D10: 25.34 | E10: =IF(D10>50,D10/50,IF(D10<=50,"-")) -> -
A11: АИС | B11: Шумен | C11: 46239 | D11: 26.49 | E11: =IF(D11>50,D11/50,IF(D11<=50,"-")) -> -
A12: АИС | B12: Шумен | C12: 46240 | D12: 29.8 | E12: =IF(D12>50,D12/50,IF(D12<=50,"-")) -> -
A13: АИС | B13: Шумен | C13: 46241 | D13: 26.81 | E13: =IF(D13>50,D13/50,IF(D13<=50,"-")) -> -
A14: АИС | B14: Шумен | C14: 46242 | D14: 24.16 | E14: =IF(D14>50,D14/50,IF(D14<=50,"-")) -> -
A15: АИС | B15: Шумен | C15: 46243 | D15: 16.07 | E15: =IF(D15>50,D15/50,IF(D15<=50,"-")) -> -
A16: АИС | B16: Шумен | C16: 46244 | D16: 15.09 | E16: =IF(D16>50,D16/50,IF(D16<=50,"-")) -> -
A17: АИС | B17: Шумен | C17: 46245 | D17: 20.42 | E17: =IF(D17>50,D17/50,IF(D17<=50,"-")) -> -
A18: АИС | B18: Шумен | C18: 46246 | D18: 24.03 | E18: =IF(D18>50,D18/50,IF(D18<=50,"-")) -> -
... A37: АИС | B37: Шумен | C37: 46265 | D37: 20.13 | E37: =IF(D37>50,D37/50,IF(D37<=50,"-")) -> -
A38: Брой регистрирани данни през месеца: | E38: =COUNT(D7:D37) -> 31
A39: Брой регистрирани данни от началото на годината до момента: | E39: ='M7'!E39+'M8'!E38 -> 241
A40: Брой регистрирани превишения през месеца: | E40: =COUNT(E7:E37) -> 0
A41: Брой регистрирани превишения от началото на годината до момента: | E41: ='M7'!E41+'M8'!E40 -> 0
A42: Средномесечна концентрация: | E42: =AVERAGE(D7:D37) -> 20.443226
A43: Времеви обхват: | E43: =(E39/243)*100 -> 99.176955

Sheet M9
A1: 2.1. ФПЧ10
A3: Пункт | B3: Община | C3: Дата | D3: Измерена концентрация | E3: Превишение на ПС за СДН
D4: [µg/m3] | E4: [в пъти ПС за СДН]
E5: (50 µg/m3)
A6: 1 | B6: 2 | C6: 3 | D6: 4 | E6: 5
A7: АИС | B7: Шумен | C7: 46266 | D7: 19.89 | E7: =IF(D7>50,D7/50,IF(D7<=50,"-")) -> -
A8: АИС | B8: Шумен | C8: 46267 | D8: 23.85 | E8: =IF(D8>50,D8/50,IF(D8<=50,"-")) -> -
A9: АИС | B9: Шумен | C9: 46268 | D9: 22.43 | E9: =IF(D9>50,D9/50,IF(D9<=50,"-")) -> -
A10: АИС | B10: Шумен | C10: 46269 | D10: 20.45 | E10: =IF(D10>50,D10/50,IF(D10<=50,"-")) -> -
A11: АИС | B11: Шумен | C11: 46270 | D11: 16.91 | E11: =IF(D11>50,D11/50,IF(D11<=50,"-")) -> -
A12: АИС | B12: Шумен | C12: 46271 | D12: 17.56 | E12: =IF(D12>50,D12/50,IF(D12<=50,"-")) -> -
A13: АИС | B13: Шумен | C13: 46272 | D13: 12.14 | E13: =IF(D13>50,D13/50,IF(D13<=50,"-")) -> -
A14: АИС | B14: Шумен | C14: 46273 | D14: 12.33 | E14: =IF(D14>50,D14/50,IF(D14<=50,"-")) -> -
A15: АИС | B15: Шумен | C15: 46274 | D15: 11.97 | E15: =IF(D15>50,D15/50,IF(D15<=50,"-")) -> -
A16: АИС | B16: Шумен | C16: 46275 | D16: 13.87 | E16: =IF(D16>50,D16/50,IF(D16<=50,"-")) -> -
A17: АИС | B17: Шумен | C17: 46276 | D17: 19.59 | E17: =IF(D17>50,D17/50,IF(D17<=50,"-")) -> -
A18: АИС | B18: Шумен | C18: 46277 | D18: 19.3 | E18: =IF(D18>50,D18/50,IF(D18<=50,"-")) -> -
... A36: АИС | B36: Шумен | C36: 46295 | D36: 16.23 | E36: =IF(D36>50,D36/50,IF(D36<=50,"-")) -> -
A37: Брой регистрирани данни през месеца: | E37: =COUNT(D7:D36) -> 30
A38: Брой регистрирани данни от началото на годината до момента: | E38: ='M8'!E39+'M9'!E37 -> 271
A39: Брой регистрирани превишения през месеца: | E39: =COUNT(E7:E36) -> 0
A40: Брой регистрирани превишения от началото на годината до момента: | E40: ='M8'!E41+'M9'!E39 -> 0
A41: Средномесечна концентрация: | E41: =AVERAGE(D7:D36) -> 16.932333
A42: Времеви обхват: | E42: =(E38/273)*100 -> 99.267399

Sheet M10
A1: 2.1. ФПЧ10
A3: Пункт | B3: Община | C3: Дата | D3: Измерена концентрация | E3: Превишение на ПС за СДН
D4: [µg/m3] | E4: [в пъти ПС за СДН]
E5: (50 µg/m3)
A6: 1 | B6: 2 | C6: 3 | D6: 4 | E6: 5
A7: АИС | B7: Шумен | C7: 46296 | E7: =IF(D7>50,D7/50,IF(D7<=50,"-")) -> -
A8: АИС | B8: Шумен | C8: 46297 | E8: =IF(D8>50,D8/50,IF(D8<=50,"-")) -> -
A9: АИС | B9: Шумен | C9: 46298 | E9: =IF(D9>50,D9/50,IF(D9<=50,"-")) -> -
A10: АИС | B10: Шумен | C10: 46299 | E10: =IF(D10>50,D10/50,IF(D10<=50,"-")) -> -
A11: АИС | B11: Шумен | C11: 46300 | E11: =IF(D11>50,D11/50,IF(D11<=50,"-")) -> -
A12: АИС | B12: Шумен | C12: 46301 | E12: =IF(D12>50,D12/50,IF(D12<=50,"-")) -> -
A13: АИС | B13: Шумен | C13: 46302 | E13: =IF(D13>50,D13/50,IF(D13<=50,"-")) -> -
A14: АИС | B14: Шумен | C14: 46303 | E14: =IF(D14>50,D14/50,IF(D14<=50,"-")) -> -
A15: АИС | B15: Шумен | C15: 46304 | E15: =IF(D15>50,D15/50,IF(D15<=50,"-")) -> -
A16: АИС | B16: Шумен | C16: 46305 | E16: =IF(D16>50,D16/50,IF(D16<=50,"-")) -> -
A17: АИС | B17: Шумен | C17: 46306 | E17: =IF(D17>50,D17/50,IF(D17<=50,"-")) -> -
A18: АИС | B18: Шумен | C18: 46307 | E18: =IF(D18>50,D18/50,IF(D18<=50,"-")) -> -
... A37: АИС | B37: Шумен | C37: 46326 | E37: =IF(D37>50,D37/50,IF(D37<=50,"-")) -> -
A38: Брой регистрирани данни през месеца: | E38: =COUNT(D7:D37) -> 0
A39: Брой регистрирани данни от началото на годината до момента: | E39: ='M9'!E38+'M10'!E38 -> 271
A40: Брой регистрирани превишения през месеца: | E40: =COUNT(E7:E37) -> 0
A41: Брой регистрирани превишения от началото на годината до момента: | E41: ='M9'!E40+'M10'!E40 -> 0
A42: Средномесечна концентрация: | E42: =AVERAGE(D7:D37) -> #DIV/0!
A43: Времеви обхват: | E43: =(E39/304)*100 -> 89.144737

Sheet M11
A1: 2.1. ФПЧ10
A3: Пункт | B3: Община | C3: Дата | D3: Измерена концентрация | E3: Превишение на ПС за СДН
D4: [µg/m3] | E4: [в пъти ПС за СДН]
E5: (50 µg/m3)
A6: 1 | B6: 2 | C6: 3 | D6: 4 | E6: 5
A7: АИС | B7: Шумен | C7: 46327 | E7: =IF(D7>50,D7/50,IF(D7<=50,"-")) -> -
A8: АИС | B8: Шумен | C8: 46328 | E8: =IF(D8>50,D8/50,IF(D8<=50,"-")) -> -
A9: АИС | B9: Шумен | C9: 46329 | E9: =IF(D9>50,D9/50,IF(D9<=50,"-")) -> -
A10: АИС | B10: Шумен | C10: 46330 | E10: =IF(D10>50,D10/50,IF(D10<=50,"-")) -> -
A11: АИС | B11: Шумен | C11: 46331 | E11: =IF(D11>50,D11/50,IF(D11<=50,"-")) -> -
A12: АИС | B12: Шумен | C12: 46332 | E12: =IF(D12>50,D12/50,IF(D12<=50,"-")) -> -
A13: АИС | B13: Шумен | C13: 46333 | E13: =IF(D13>50,D13/50,IF(D13<=50,"-")) -> -
A14: АИС | B14: Шумен | C14: 46334 | E14: =IF(D14>50,D14/50,IF(D14<=50,"-")) -> -
A15: АИС | B15: Шумен | C15: 46335 | E15: =IF(D15>50,D15/50,IF(D15<=50,"-")) -> -
A16: АИС | B16: Шумен | C16: 46336 | E16: =IF(D16>50,D16/50,IF(D16<=50,"-")) -> -
A17: АИС | B17: Шумен | C17: 46337 | E17: =IF(D17>50,D17/50,IF(D17<=50,"-")) -> -
A18: АИС | B18: Шумен | C18: 46338 | E18: =IF(D18>50,D18/50,IF(D18<=50,"-")) -> -
... A36: АИС | B36: Шумен | C36: 46356 | E36: =IF(D36>50,D36/50,IF(D36<=50,"-")) -> -
A37: Брой регистрирани данни през месеца: | E37: =COUNT(D7:D36) -> 0
A38: Брой регистрирани данни от началото на годината до момента: | E38: ='M10'!E39+'M11'!E37 -> 271
A39: Брой регистрирани превишения през месеца: | E39: =COUNT(E7:E36) -> 0
A40: Брой регистрирани превишения от началото на годината до момента: | E40: ='M10'!E41+'M11'!E39 -> 0
A41: Средномесечна концентрация: | E41: =AVERAGE(D7:D36) -> #DIV/0!
A42: Времеви обхват: | E42: =(E38/334)*100 -> 81.137725

Sheet M12
A1: 2.1. ФПЧ10
A3: Пункт | B3: Община | C3: Дата | D3: Измерена концентрация | E3: Превишение на ПС за СДН
D4: [µg/m3] | E4: [в пъти ПС за СДН]
E5: (50 µg/m3)
A6: 1 | B6: 2 | C6: 3 | D6: 4 | E6: 5
A7: АИС | B7: Шумен | C7: 46357 | E7: =IF(D7>50,D7/50,IF(D7<=50,"-")) -> -
A8: АИС | B8: Шумен | C8: 46358 | E8: =IF(D8>50,D8/50,IF(D8<=50,"-")) -> -
A9: АИС | B9: Шумен | C9: 46359 | E9: =IF(D9>50,D9/50,IF(D9<=50,"-")) -> -
A10: АИС | B10: Шумен | C10: 46360 | E10: =IF(D10>50,D10/50,IF(D10<=50,"-")) -> -
A11: АИС | B11: Шумен | C11: 46361 | E11: =IF(D11>50,D11/50,IF(D11<=50,"-")) -> -
A12: АИС | B12: Шумен | C12: 46362 | E12: =IF(D12>50,D12/50,IF(D12<=50,"-")) -> -
A13: АИС | B13: Шумен | C13: 46363 | E13: =IF(D13>50,D13/50,IF(D13<=50,"-")) -> -
A14: АИС | B14: Шумен | C14: 46364 | E14: =IF(D14>50,D14/50,IF(D14<=50,"-")) -> -
A15: АИС | B15: Шумен | C15: 46365 | E15: =IF(D15>50,D15/50,IF(D15<=50,"-")) -> -
A16: АИС | B16: Шумен | C16: 46366 | E16: =IF(D16>50,D16/50,IF(D16<=50,"-")) -> -
A17: АИС | B17: Шумен | C17: 46367 | E17: =IF(D17>50,D17/50,IF(D17<=50,"-")) -> -
A18: АИС | B18: Шумен | C18: 46368 | E18: =IF(D18>50,D18/50,IF(D18<=50,"-")) -> -
... A37: АИС | B37: Шумен | C37: 46387 | E37: =IF(D37>50,D37/50,IF(D37<=50,"-")) -> -
A38: Брой регистрирани данни през месеца: | E38: =COUNT(D7:D37) -> 0
A39: Брой регистрирани данни от началото на годината до момента: | E39: ='M11'!E38+'M12'!E38 -> 271
A40: Брой регистрирани превишения през месеца: | E40: =COUNT(E7:E37) -> 0
A41: Брой регистрирани превишения от началото на годината до момента: | E41: ='M11'!E40+'M12'!E40 -> 0
A42: Средномесечна концентрация: | E42: =AVERAGE(D7:D37) -> #DIV/0!
A43: Времеви обхват: | E43: =(E39/365)*100 -> 74.246575

Sheet 2026
